BEGIN:VCALENDAR
VERSION:2.0
PRODID:-//Plone.org//NONSGML plone.app.event//EN
X-WR-TIMEZONE:Europe/Madrid
BEGIN:VEVENT
SUMMARY:Esdeveniment de mostra 1
DTSTART;TZID=Europe/Madrid:20221109T110000
DTEND;TZID=Europe/Madrid:20621030T110000
DTSTAMP:20260420T183935Z
UID:81c4ff7c80674f77bf33c080e2601ec6@marq-mismec.masters.upc.edu
CONTACT:Responsable esdeveniment\, adreca@noreply.com
CREATED:20221109T103513Z
LAST-MODIFIED:20221109T103513Z
LOCATION:Lloc de l'esdeveniment
URL:https://marq-mismec.masters.upc.edu/ca/esdeveniments/esdeveniment-de-m
 ostra-1
END:VEVENT
BEGIN:VEVENT
SUMMARY:Esdeveniment de mostra 2
DTSTART;TZID=Europe/Madrid:20221109T110000
DTEND;TZID=Europe/Madrid:20621030T110000
DTSTAMP:20260420T183935Z
UID:bf66cf177e084721bd1c7ee9ba57c4ad@marq-mismec.masters.upc.edu
CONTACT:Responsable esdeveniment\, adreca@noreply.com
CREATED:20221109T103513Z
LAST-MODIFIED:20221109T103513Z
LOCATION:Lloc de l'esdeveniment
URL:https://marq-mismec.masters.upc.edu/ca/esdeveniments/esdeveniment-de-m
 ostra-2
END:VEVENT
BEGIN:VEVENT
SUMMARY:Esdeveniment de mostra 3
DTSTART;TZID=Europe/Madrid:20221109T110000
DTEND;TZID=Europe/Madrid:20621030T110000
DTSTAMP:20260420T183935Z
UID:98c3928cfc394ff5a6bee2b6836cda18@marq-mismec.masters.upc.edu
CONTACT:Responsable esdeveniment\, adreca@noreply.com
CREATED:20221109T103513Z
LAST-MODIFIED:20221109T103513Z
LOCATION:Lloc de l'esdeveniment
URL:https://marq-mismec.masters.upc.edu/ca/esdeveniments/esdeveniment-de-m
 ostra-3
END:VEVENT
BEGIN:VEVENT
SUMMARY:Esdeveniment de mostra 4
DTSTART;TZID=Europe/Madrid:20221109T110000
DTEND;TZID=Europe/Madrid:20621030T110000
DTSTAMP:20260420T183935Z
UID:f44cc5fddf3d494eb24b704a2c8377d6@marq-mismec.masters.upc.edu
CONTACT:Responsable esdeveniment\, adreca@noreply.com
CREATED:20221109T103513Z
LAST-MODIFIED:20221109T103513Z
LOCATION:Lloc de l'esdeveniment
URL:https://marq-mismec.masters.upc.edu/ca/esdeveniments/esdeveniment-de-m
 ostra-4
END:VEVENT
BEGIN:VTIMEZONE
TZID:Europe/Madrid
X-LIC-LOCATION:Europe/Madrid
BEGIN:STANDARD
DTSTART:20221030T020000
TZNAME:CET
TZOFFSETFROM:+0200
TZOFFSETTO:+0100
END:STANDARD
BEGIN:STANDARD
DTSTART:20371025T020000
TZNAME:CET
TZOFFSETFROM:+0200
TZOFFSETTO:+0100
END:STANDARD
END:VTIMEZONE
END:VCALENDAR
